BEGIN:VCALENDAR
VERSION:2.0
PRODID:-//www.easternidahodownsyndrome.org//NONSGML kigkonsult.se iCalcreat
 or 2.30.10//
CALSCALE:GREGORIAN
METHOD:PUBLISH
UID:db7cb5f5-05ec-44ed-8676-0d95e7659be2
X-WR-CALDESC:We are excited about our Roadmap Conference. This year we have
  an all-day option (8:00 am-5:30 pm) for parents who have children 15 year
 s to 21 years old that are still in school OR a half-day option (11:45 am-
 5:30 pm) for parents who have a child that is already out of school.\n\nAl
 l-Day Option: \n- Cost: $50 per person\n- For parents/caregivers of an ind
 ividual with a disability aged 15-21 AND still in school\n- Includes an or
 ganizational binder\n- Includes continental breakfast\, lunch\, and snacks
 \n- Speaker topics: secondary transition and the IEP process\, SSI\, guard
 ianship\, conservatorship\, financial planning for your child with a disab
 ility\, special needs trusts\, adult services in Idaho\, and other Idaho/n
 ational resources.\n\nHalf-Day Option: \n- Cost: $30 per person\n- For par
 ents/caregivers of an individual with a disability aged no longer in schoo
 l \n- Includes an organizational binder\n- Includes lunch and snacks\n- Sp
 eaker topics: guardianship\, conservatorship\, financial planning for your
  child with a disability\, special needs trusts\, adult services in Idaho\
 , and other Idaho/national resources.\n\nThis conference is for parents an
 d caregivers ONLY. If you have specific dietary needs\, please bring your 
 own food and snacks.\nIf you have any questions please email us at info@ea
 sternidahodownsyndrome.org.
X-WR-RELCALID:323ed26e16c0387e874f42eb8ed91d83
X-WR-TIMEZONE:America/Chicago
BEGIN:VTIMEZONE
TZID:America/Chicago
BEGIN:STANDARD
TZNAME:CST
DTSTART:20221106T020000
TZOFFSETFROM:-0500
TZOFFSETTO:-0600
RDATE:20231105T020000
END:STANDARD
BEGIN:DAYLIGHT
TZNAME:CDT
DTSTART:20230312T020000
TZOFFSETFROM:-0600
TZOFFSETTO:-0500
RDATE:20240310T020000
END:DAYLIGHT
END:VTIMEZONE
BEGIN:VEVENT
UID:4c33b5ae-eacf-469a-8630-d8934cd1c5d9
DTSTAMP:20260425T143528Z
DESCRIPTION:We are excited about our Roadmap Conference. This year we have 
 an all-day option (8:00 am-5:30 pm) for parents who have children 15 years
  to 21 years old that are still in school OR a half-day option (11:45 am-5
 :30 pm) for parents who have a child that is already out of school.\n\nAll
 -Day Option: \n- Cost: $50 per person\n- For parents/caregivers of an indi
 vidual with a disability aged 15-21 AND still in school\n- Includes an org
 anizational binder\n- Includes continental breakfast\, lunch\, and snacks
 \n- Speaker topics: secondary transition and the IEP process\, SSI\, guard
 ianship\, conservatorship\, financial planning for your child with a disab
 ility\, special needs trusts\, adult services in Idaho\, and other Idaho/n
 ational resources.\n\nHalf-Day Option: \n- Cost: $30 per person\n- For par
 ents/caregivers of an individual with a disability aged no longer in schoo
 l \n- Includes an organizational binder\n- Includes lunch and snacks\n- Sp
 eaker topics: guardianship\, conservatorship\, financial planning for your
  child with a disability\, special needs trusts\, adult services in Idaho\
 , and other Idaho/national resources.\n\nThis conference is for parents an
 d caregivers ONLY. If you have specific dietary needs\, please bring your 
 own food and snacks.\nIf you have any questions please email us at info@ea
 sternidahodownsyndrome.org.
DTSTART;TZID=America/Chicago:20230401T080000
DTEND;TZID=America/Chicago:20230401T173000
LOCATION:1675 S Woodruff Ave\, Idaho Falls\, ID 83402 US
SUMMARY:Road Map Through Adulthood Conference
END:VEVENT
END:VCALENDAR
