BEGIN:VCALENDAR
VERSION:2.0
PRODID:-//www.easternidahodownsyndrome.org//NONSGML kigkonsult.se iCalcreat
 or 2.30.10//
CALSCALE:GREGORIAN
METHOD:PUBLISH
UID:bdb18ab3-36d7-4ddd-ba8b-159bf4391ad5
X-WR-CALDESC:Join us for Chukars night! It will be $1 per ticket\, there is
  no limit on the number of tickets you can purchase\, bring family and fri
 ends! Gates will open at 6 pm and we will have a table right outside the b
 allpark where you can pick up your tickets from us. Our kids/adults with D
 own syndrome will also have the opportunity to go out on the field before 
 the game. If your child/adult with Down syndrome would like to do this\, w
 e will meet by the first baseline at 6:30 pm and they will be going out on
  the field at 6:50 pm.  If you want to participate in this part\, please c
 heck the box specifying this in the ticket checkout process. IF YOUR CHILD
  NEEDS TO BE ACCOMPANIED BY SOMEONE\, PLEASE ENSURE IT IS ONLY ONE PERSON.
  THIS MAKES THINGS RUN SMOOTHLY WITH THE CHUKAR PLAYERS. Order tickets on 
 this event page now! No tickets will be sold at the gate\, all tickets mus
 t be purchased on this page by June 16th.
X-WR-RELCALID:4aa22442b3a1dd62421caf802ba35059
X-WR-TIMEZONE:America/Chicago
BEGIN:VTIMEZONE
TZID:America/Chicago
BEGIN:STANDARD
TZNAME:CST
DTSTART:20251102T020000
TZOFFSETFROM:-0500
TZOFFSETTO:-0600
RDATE:20261101T020000
RDATE:20271107T020000
END:STANDARD
BEGIN:DAYLIGHT
TZNAME:CDT
DTSTART:20260308T020000
TZOFFSETFROM:-0600
TZOFFSETTO:-0500
RDATE:20270314T020000
END:DAYLIGHT
END:VTIMEZONE
BEGIN:VEVENT
UID:5a650db9-8095-420e-b4af-2f3efa390855
DTSTAMP:20260420T085539Z
DESCRIPTION:Join us for Chukars night! It will be $1 per ticket\, there is 
 no limit on the number of tickets you can purchase\, bring family and frie
 nds! Gates will open at 6 pm and we will have a table right outside the ba
 llpark where you can pick up your tickets from us. Our kids/adults with Do
 wn syndrome will also have the opportunity to go out on the field before t
 he game. If your child/adult with Down syndrome would like to do this\, we
  will meet by the first baseline at 6:30 pm and they will be going out on 
 the field at 6:50 pm.  If you want to participate in this part\, please ch
 eck the box specifying this in the ticket checkout process. IF YOUR CHILD 
 NEEDS TO BE ACCOMPANIED BY SOMEONE\, PLEASE ENSURE IT IS ONLY ONE PERSON. 
 THIS MAKES THINGS RUN SMOOTHLY WITH THE CHUKAR PLAYERS. Order tickets on t
 his event page now! No tickets will be sold at the gate\, all tickets must
  be purchased on this page by June 16th.
DTSTART;TZID=America/Chicago:20260617T190000
DTEND;TZID=America/Chicago:20260617T230000
LOCATION:Melaleuca Field
SUMMARY:EIDS Night at the Chukars
END:VEVENT
END:VCALENDAR
