BEGIN:VCALENDAR
VERSION:2.0
PRODID:-//www.easternidahodownsyndrome.org//NONSGML kigkonsult.se iCalcreat
 or 2.30.10//
CALSCALE:GREGORIAN
METHOD:PUBLISH
UID:5db7960e-e615-469b-aff2-f0312d33524a
X-WR-CALDESC:EIRMC residents have invited our adults to come paint a pot fo
 r flowers/plant and to play some games.  We will meet at the EIRMC medical
  office building at 10am-12:30pm. The medical office is not the main EIRMC
  entrance. This address should take you to the correct spot: 2860 Channing
  Way Ste 214.  Snacks will be provided. If you have questions please reach
  out to Joanna 208-520-8276
X-WR-RELCALID:c50feb4fa0bbce6a58cf909cf90d085e
X-WR-TIMEZONE:America/Chicago
BEGIN:VTIMEZONE
TZID:America/Chicago
BEGIN:STANDARD
TZNAME:CST
DTSTART:20251102T020000
TZOFFSETFROM:-0500
TZOFFSETTO:-0600
RDATE:20261101T020000
END:STANDARD
BEGIN:DAYLIGHT
TZNAME:CDT
DTSTART:20260308T020000
TZOFFSETFROM:-0600
TZOFFSETTO:-0500
RDATE:20270314T020000
END:DAYLIGHT
END:VTIMEZONE
BEGIN:VEVENT
UID:a6f94994-17d9-4a77-ab7f-b60e9755ed39
DTSTAMP:20260422T011527Z
DESCRIPTION:EIRMC residents have invited our adults to come paint a pot for
  flowers/plant and to play some games.  We will meet at the EIRMC medical 
 office building at 10am-12:30pm. The medical office is not the main EIRMC 
 entrance. This address should take you to the correct spot: 2860 Channing 
 Way Ste 214.  Snacks will be provided. If you have questions please reach 
 out to Joanna 208-520-8276
DTSTART;TZID=America/Chicago:20260429T100000
DTEND;TZID=America/Chicago:20260429T123000
LOCATION:Medical office Building at EIRMC - 2860 Channing Way Ste 214
SUMMARY:Adult Activity
END:VEVENT
END:VCALENDAR
