BEGIN:VCALENDAR
VERSION:2.0
PRODID:-//www.easternidahodownsyndrome.org//NONSGML kigkonsult.se iCalcreat
 or 2.30.10//
CALSCALE:GREGORIAN
METHOD:PUBLISH
UID:744ee881-3143-48b5-a268-5be2740066c0
X-WR-CALDESC:We are excited to have our annual World Down Syndrome Day cele
 bration on Thursday\, March 19th (two days before the official World Down 
 Syndrome Day)! The celebration will be from 5:30 to 7 pm at the IFFC Indoo
 r Soccer Facility at 1542 East 73rd South\, Idaho Falls 83404 (Right past 
 Sandy Downs in Idaho Falls).\n\nWe will have pizza\, drinks\, and treats! 
 There will be fun activities\, music\, and dancing! Make sure to rock your
  crazy socks!!! \n\nYour family is welcome to come\, please just specify t
 hat in your registration numbers\, so we have enough food! \n\nThis event 
 is free for registered members of EIDS.
X-WR-RELCALID:d8b5e57603fc7edc33548557e6e48f12
X-WR-TIMEZONE:America/Chicago
BEGIN:VTIMEZONE
TZID:America/Chicago
BEGIN:STANDARD
TZNAME:CST
DTSTART:20251102T020000
TZOFFSETFROM:-0500
TZOFFSETTO:-0600
RDATE:20261101T020000
END:STANDARD
BEGIN:DAYLIGHT
TZNAME:CDT
DTSTART:20260308T020000
TZOFFSETFROM:-0600
TZOFFSETTO:-0500
RDATE:20270314T020000
END:DAYLIGHT
END:VTIMEZONE
BEGIN:VEVENT
UID:fc09bbe0-a4af-4f26-8682-c3e9d770ba32
DTSTAMP:20260421T090735Z
DESCRIPTION:We are excited to have our annual World Down Syndrome Day celeb
 ration on Thursday\, March 19th (two days before the official World Down S
 yndrome Day)! The celebration will be from 5:30 to 7 pm at the IFFC Indoor
  Soccer Facility at 1542 East 73rd South\, Idaho Falls 83404 (Right past S
 andy Downs in Idaho Falls).\n\nWe will have pizza\, drinks\, and treats! T
 here will be fun activities\, music\, and dancing! Make sure to rock your 
 crazy socks!!! \n\nYour family is welcome to come\, please just specify th
 at in your registration numbers\, so we have enough food! \n\nThis event i
 s free for registered members of EIDS.
DTSTART;TZID=America/Chicago:20260319T173000
DTEND;TZID=America/Chicago:20260319T190000
LOCATION:1542 East 73rd South\, Idaho Falls 83404 (IFFC Indoor Soccer Facil
 ity)
SUMMARY:3.21 World Down Syndrome Day Celebration!!!
END:VEVENT
END:VCALENDAR
