BEGIN:VCALENDAR
VERSION:2.0
PRODID:-//www.easternidahodownsyndrome.org//NONSGML kigkonsult.se iCalcreat
 or 2.30.10//
CALSCALE:GREGORIAN
METHOD:PUBLISH
UID:33c8d61c-9691-406b-8e44-4b0cefbd648a
X-WR-CALDESC:Come join EIDS for our 5th Annual Fearless Photos and Ice Crea
 m Social.  We will have photographers taking pictures of families and chil
 dren to give to the families and to display on EIDS’s website and social m
 edia (if you give permission!). Of course\, we’ll have ice cream as well (
 pre-packaged for safety). The photographers are donating their time\, and 
 we will email pictures to parents after the event for free.  This event is
  free for registered members of EIDS.  We look forward to seeing everyone!
  \n\n***This year we will have time slots for families. Right after each f
 amily finishes their pictures\, they will be given their ice cream. Once y
 ou sign up we will contact you with your time slot.***\n
X-WR-RELCALID:85e5b3853c56712810418df5d1a0d1dc
X-WR-TIMEZONE:America/Chicago
BEGIN:VTIMEZONE
TZID:America/Chicago
BEGIN:STANDARD
TZNAME:CST
DTSTART:20221106T020000
TZOFFSETFROM:-0500
TZOFFSETTO:-0600
RDATE:20231105T020000
RDATE:20241103T020000
END:STANDARD
BEGIN:DAYLIGHT
TZNAME:CDT
DTSTART:20230312T020000
TZOFFSETFROM:-0600
TZOFFSETTO:-0500
RDATE:20240310T020000
END:DAYLIGHT
END:VTIMEZONE
BEGIN:VEVENT
UID:d452d228-7c5d-4a45-ab45-105034e16232
DTSTAMP:20260421T104830Z
DESCRIPTION:Come join EIDS for our 5th Annual Fearless Photos and Ice Cream
  Social.  We will have photographers taking pictures of families and child
 ren to give to the families and to display on EIDS’s website and social me
 dia (if you give permission!). Of course\, we’ll have ice cream as well (p
 re-packaged for safety). The photographers are donating their time\, and w
 e will email pictures to parents after the event for free.  This event is 
 free for registered members of EIDS.  We look forward to seeing everyone! 
 \n\n***This year we will have time slots for families. Right after each fa
 mily finishes their pictures\, they will be given their ice cream. Once yo
 u sign up we will contact you with your time slot.***\n
DTSTART;TZID=America/Chicago:20230719T173000
DTEND;TZID=America/Chicago:20230719T200000
LOCATION:Idaho Falls- Tautphaus Park – Shelter 1
SUMMARY:5th Annual Fearless Photos
END:VEVENT
END:VCALENDAR
