BEGIN:VCALENDAR
VERSION:2.0
PRODID:-//www.easternidahodownsyndrome.org//NONSGML kigkonsult.se iCalcreat
 or 2.30.10//
CALSCALE:GREGORIAN
METHOD:PUBLISH
UID:e9487e0b-6ea0-4f25-b1cf-65a689b14887
X-WR-CALDESC:For all EIDS mom's.  We will have brunch\, socializing and be 
 making a spring wreath (different from the photo). This is a time to come 
 and connect with other moms!  Babies are welcome to come as well.  This is
  a free event for EIDS members.  It will be held at the EIDS office\, 1675
  S Woodruff Ave\, Idaho Falls. \n
X-WR-RELCALID:08e414e093af5972290861249c91c622
X-WR-TIMEZONE:America/Chicago
BEGIN:VTIMEZONE
TZID:America/Chicago
BEGIN:STANDARD
TZNAME:CST
DTSTART:20211107T020000
TZOFFSETFROM:-0500
TZOFFSETTO:-0600
RDATE:20221106T020000
RDATE:20231105T020000
END:STANDARD
BEGIN:DAYLIGHT
TZNAME:CDT
DTSTART:20220313T020000
TZOFFSETFROM:-0600
TZOFFSETTO:-0500
RDATE:20230312T020000
END:DAYLIGHT
END:VTIMEZONE
BEGIN:VEVENT
UID:5ba683e1-47d6-40b8-9087-4cc2787dcf18
DTSTAMP:20260421T122957Z
DESCRIPTION:For all EIDS mom's.  We will have brunch\, socializing and be m
 aking a spring wreath (different from the photo). This is a time to come a
 nd connect with other moms!  Babies are welcome to come as well.  This is 
 a free event for EIDS members.  It will be held at the EIDS office\, 1675 
 S Woodruff Ave\, Idaho Falls. \n
DTSTART;TZID=America/Chicago:20220514T100000
DTEND;TZID=America/Chicago:20220514T113000
LOCATION:Mom's Spring Brunch
SUMMARY:Spring Chicks Mom's  Brunch
END:VEVENT
END:VCALENDAR
