BEGIN:VCALENDAR
VERSION:2.0
PRODID:-//www.easternidahodownsyndrome.org//NONSGML kigkonsult.se iCalcreat
 or 2.30.10//
CALSCALE:GREGORIAN
METHOD:PUBLISH
UID:4d6632e6-0585-4669-aab7-27b812893919
X-WR-CALDESC:Happy Halloween!!!\nPlease join us for our annual Halloween pa
 rty for EIDS members.\nWhere: The Romance Theater\, Rexburg\nWhen: Wednesd
 ay\, October 27\, 2021 at 6:00 pm\nWear your costumes!\nPizza\, snacks\, a
 nd drinks provided!\nWe will be having a talent show at the party featurin
 g performances by our kids with Down syndrome. If your child with Down syn
 drome wants to perform please sign them up when you register for the party
 .
X-WR-RELCALID:8319ee373054f5e3719df1db017959e5
X-WR-TIMEZONE:America/Chicago
BEGIN:VTIMEZONE
TZID:America/Chicago
BEGIN:STANDARD
TZNAME:CST
DTSTART:20201101T020000
TZOFFSETFROM:-0500
TZOFFSETTO:-0600
RDATE:20211107T020000
RDATE:20221106T020000
END:STANDARD
BEGIN:DAYLIGHT
TZNAME:CDT
DTSTART:20210314T020000
TZOFFSETFROM:-0600
TZOFFSETTO:-0500
RDATE:20220313T020000
RDATE:20230312T020000
END:DAYLIGHT
END:VTIMEZONE
BEGIN:VEVENT
UID:672b029d-2b27-4c2f-a203-5cfbaea00c6d
DTSTAMP:20260425T115813Z
DESCRIPTION:Happy Halloween!!!\nPlease join us for our annual Halloween par
 ty for EIDS members.\nWhere: The Romance Theater\, Rexburg\nWhen: Wednesda
 y\, October 27\, 2021 at 6:00 pm\nWear your costumes!\nPizza\, snacks\, an
 d drinks provided!\nWe will be having a talent show at the party featuring
  performances by our kids with Down syndrome. If your child with Down synd
 rome wants to perform please sign them up when you register for the party.
DTSTART;TZID=America/Chicago:20211027T180000
DTEND;TZID=America/Chicago:20211027T200000
LOCATION:The Romance Theater\, Rexburg - 2 E Main St\, Rexburg\, ID 83440
SUMMARY:EIDS Halloween Party/Talent Show
END:VEVENT
END:VCALENDAR
